BEGIN:VCALENDAR
VERSION:2.0
PRODID:-//Bürger Initiativ - ECPv6.15.18//NONSGML v1.0//EN
CALSCALE:GREGORIAN
METHOD:PUBLISH
X-WR-CALNAME:Bürger Initiativ
X-ORIGINAL-URL:https://www.buerger-initiativ.de
X-WR-CALDESC:Veranstaltungen für Bürger Initiativ
REFRESH-INTERVAL;VALUE=DURATION:PT1H
X-Robots-Tag:noindex
X-PUBLISHED-TTL:PT1H
BEGIN:VTIMEZONE
TZID:Europe/Berlin
BEGIN:DAYLIGHT
TZOFFSETFROM:+0100
TZOFFSETTO:+0200
TZNAME:CEST
DTSTART:20250330T010000
END:DAYLIGHT
BEGIN:STANDARD
TZOFFSETFROM:+0200
TZOFFSETTO:+0100
TZNAME:CET
DTSTART:20251026T010000
END:STANDARD
BEGIN:DAYLIGHT
TZOFFSETFROM:+0100
TZOFFSETTO:+0200
TZNAME:CEST
DTSTART:20260329T010000
END:DAYLIGHT
BEGIN:STANDARD
TZOFFSETFROM:+0200
TZOFFSETTO:+0100
TZNAME:CET
DTSTART:20261025T010000
END:STANDARD
BEGIN:DAYLIGHT
TZOFFSETFROM:+0100
TZOFFSETTO:+0200
TZNAME:CEST
DTSTART:20270328T010000
END:DAYLIGHT
BEGIN:STANDARD
TZOFFSETFROM:+0200
TZOFFSETTO:+0100
TZNAME:CET
DTSTART:20271031T010000
END:STANDARD
END:VTIMEZONE
BEGIN:VEVENT
DTSTART;TZID=Europe/Berlin:20260602T100000
DTEND;TZID=Europe/Berlin:20260602T190000
DTSTAMP:20260420T101952
CREATED:20260406T180427Z
LAST-MODIFIED:20260406T180427Z
UID:1033-1780394400-1780426800@www.buerger-initiativ.de
SUMMARY:Wärmewende Forum Hessen 2026
DESCRIPTION:In ganz Hessen stehen Kommunen vor der Frage\, wie sie ihre Wärmeplanung in die Umsetzung bringen. \nDies ist ein entscheidender Moment für eine bezahlbare\, klimafreundliche und sozial gerechte Wärmeversorgung der Zukunft. \nDamit aus Plänen konkrete Projekte werden und die Wärmewende vor Ort gelingt\, zeigen wir Ihnen am 02.06.26 auf dem Wärmewende Forum Hessen 2026 im Capitol Dietzenbach: \n\nwie Sie Bürgerinnen und Bürger beteiligen und gesellschaftliche Teilhabe ermöglichen\nwie Sie über komplexe Transformationsprozesse verständlich und motivierend kommunizieren\nwie sich die Kommunale Wärmeplanung auf Strom- und Gasnetze auswirkt\nwelche Rolle Wärmespeicher\, Contracting und Quartierslösungen spielen\nwelche Datengrundlagen und Werkzeuge Sie unterstützen\n\nNeben hochwertigen Vorträgen erwarten Sie spannender Praxisaustausch mit relevanten Akteurinnen und Akteuren der Wärmewende\, Vernetzung innerhalb der Community sowie eine Fachausstellung mit wichtigen Unternehmen und Institutionen der Branche. \nFreuen Sie sich auf einen Tag ganz im Zeichen der Wärmewende – technisch fundiert\, praxisnah und mit dem klaren Blick auf Beteiligung und soziale Dimension. \nDie aktuellen Diskussionen und Entwicklungen rund um das GEG und WPG behalten wir im Blick. Daher sind kurzfristig auch geringfügige Anpassungen im Programm möglich.
URL:https://www.buerger-initiativ.de/veranstaltungen/waermewende-forum-hessen-2026/
LOCATION:Capitol Dietzenbach\, Europaplatz 3\, Dietzenbach\, 63128
ATTACH;FMTTYPE=image/png:https://www.buerger-initiativ.de/wp-content/uploads/2026/04/Waermewende-LEA.png
ORGANIZER;CN="Landesenergieagentur Hessen":MAILTO:lea@lea-hessen.de
END:VEVENT
END:VCALENDAR